Package: GenomicRanges Version: 1.63.0 Command: /Library/Frameworks/R.framework/Resources/bin/R CMD INSTALL GenomicRanges StartedAt: 2025-11-14 15:10:52 -0500 (Fri, 14 Nov 2025) EndedAt: 2025-11-14 15:10:59 -0500 (Fri, 14 Nov 2025) EllapsedTime: 7.2 seconds RetCode: 0 Status: OK