Package: GenomicRanges Version: 1.63.0 Command: /Library/Frameworks/R.framework/Resources/bin/R CMD build --keep-empty-dirs --no-resave-data GenomicRanges StartedAt: 2025-11-13 16:30:28 -0500 (Thu, 13 Nov 2025) EndedAt: 2025-11-13 16:31:54 -0500 (Thu, 13 Nov 2025) EllapsedTime: 85.9 seconds RetCode: 0 Status: OK PackageFile: GenomicRanges_1.63.0.tar.gz PackageFileSize: 1.304 MiB