Package: GenomicRanges Version: 1.63.0 Command: rm -rf GenomicRanges.buildbin-libdir && mkdir GenomicRanges.buildbin-libdir && /Users/biocbuild/BBS/utils/build-universal.sh GenomicRanges_1.63.0.tar.gz /Library/Frameworks/R.framework/Resources/bin/R GenomicRanges.buildbin-libdir StartedAt: 2025-11-13 23:39:20 -0500 (Thu, 13 Nov 2025) EndedAt: 2025-11-13 23:39:31 -0500 (Thu, 13 Nov 2025) EllapsedTime: 11.2 seconds RetCode: 0 Status: OK PackageFile: GenomicRanges_1.63.0.tgz PackageFileSize: 2.298 MiB