Package: GenomicRanges Version: 1.63.0 Maintainer: Hervé Pagès MaintainerEmail: hpages.on.github at gmail.com git_url: https://git.bioconductor.org/packages/GenomicRanges git_branch: devel git_last_commit: 1dfb82d git_last_commit_date: 2025-10-29 14:50:52 -0500 (Wed, 29 Oct 2025)