Package: GenomicPlot Version: 1.9.0 Command: /home/biocbuild/bbs-3.23-bioc/R/bin/R CMD INSTALL GenomicPlot StartedAt: 2025-11-11 15:48:59 -0500 (Tue, 11 Nov 2025) EndedAt: 2025-11-11 15:49:18 -0500 (Tue, 11 Nov 2025) EllapsedTime: 18.4 seconds RetCode: 1 Status: ERROR