############################################################################## ############################################################################## ### ### Running command: ### ### /home/biocbuild/bbs-3.23-bioc/R/bin/R CMD INSTALL GenomicPlot ### ############################################################################## ############################################################################## * installing to library ‘/home/biocbuild/bbs-3.23-bioc/R/site-library’ * installing *source* package ‘GenomicPlot’ ... ** this is package ‘GenomicPlot’ version ‘1.9.0’ ** using staged installation ** R ** data ** inst ** byte-compile and prepare package for lazy loading Error: object ‘filter’ is not exported by 'namespace:plyranges' Execution halted ERROR: lazy loading failed for package ‘GenomicPlot’ * removing ‘/home/biocbuild/bbs-3.23-bioc/R/site-library/GenomicPlot’ * restoring previous ‘/home/biocbuild/bbs-3.23-bioc/R/site-library/GenomicPlot’