Package: GenomicPlot Version: 1.9.0 Command: /home/biocbuild/bbs-3.23-bioc/R/bin/R CMD build --keep-empty-dirs --no-resave-data GenomicPlot StartedAt: 2025-11-13 17:46:12 -0500 (Thu, 13 Nov 2025) EndedAt: 2025-11-13 17:46:28 -0500 (Thu, 13 Nov 2025) EllapsedTime: 16.0 seconds RetCode: 1 Status: ERROR PackageFile: None PackageFileSize: NA