Package: GenomicPlot Version: 1.9.0 Command: /Library/Frameworks/R.framework/Resources/bin/R CMD INSTALL GenomicPlot StartedAt: 2025-11-13 15:24:08 -0500 (Thu, 13 Nov 2025) EndedAt: 2025-11-13 15:24:14 -0500 (Thu, 13 Nov 2025) EllapsedTime: 6.4 seconds RetCode: 1 Status: ERROR