Package: GenomicPlot Version: 1.9.0 Command: /Library/Frameworks/R.framework/Resources/bin/R CMD build --keep-empty-dirs --no-resave-data GenomicPlot StartedAt: 2025-11-14 16:27:15 -0500 (Fri, 14 Nov 2025) EndedAt: 2025-11-14 16:27:23 -0500 (Fri, 14 Nov 2025) EllapsedTime: 8.1 seconds RetCode: 1 Status: ERROR PackageFile: None PackageFileSize: NA