Package: GenomicInteractions Version: 1.45.0 Command: /Library/Frameworks/R.framework/Resources/bin/R CMD INSTALL GenomicInteractions StartedAt: 2025-11-21 15:27:43 -0500 (Fri, 21 Nov 2025) EndedAt: 2025-11-21 15:28:20 -0500 (Fri, 21 Nov 2025) EllapsedTime: 37.4 seconds RetCode: 0 Status: OK