Package: GenomicInteractions Version: 1.45.0 Command: /Library/Frameworks/R.framework/Resources/bin/R CMD build --keep-empty-dirs --no-resave-data GenomicInteractions StartedAt: 2025-11-21 16:26:36 -0500 (Fri, 21 Nov 2025) EndedAt: 2025-11-21 16:27:46 -0500 (Fri, 21 Nov 2025) EllapsedTime: 69.6 seconds RetCode: 0 Status: OK PackageFile: GenomicInteractions_1.45.0.tar.gz PackageFileSize: 3.527 MiB