Package: GenomicInteractionNodes Version: 1.15.0 Command: /home/biocbuild/bbs-3.23-bioc/R/bin/R CMD build --keep-empty-dirs --no-resave-data GenomicInteractionNodes StartedAt: 2025-11-13 17:46:01 -0500 (Thu, 13 Nov 2025) EndedAt: 2025-11-13 17:47:47 -0500 (Thu, 13 Nov 2025) EllapsedTime: 106.1 seconds RetCode: 0 Status: OK PackageFile: GenomicInteractionNodes_1.15.0.tar.gz PackageFileSize: 248.6 KiB