Package: GenomicInteractionNodes Version: 1.15.0 Command: /Library/Frameworks/R.framework/Resources/bin/R CMD INSTALL GenomicInteractionNodes StartedAt: 2025-11-13 15:25:58 -0500 (Thu, 13 Nov 2025) EndedAt: 2025-11-13 15:26:12 -0500 (Thu, 13 Nov 2025) EllapsedTime: 13.6 seconds RetCode: 0 Status: OK