Package: GenomicInteractionNodes Version: 1.15.0 Command: /Library/Frameworks/R.framework/Resources/bin/R CMD build --keep-empty-dirs --no-resave-data GenomicInteractionNodes StartedAt: 2025-11-13 16:30:13 -0500 (Thu, 13 Nov 2025) EndedAt: 2025-11-13 16:31:01 -0500 (Thu, 13 Nov 2025) EllapsedTime: 47.5 seconds RetCode: 0 Status: OK PackageFile: GenomicInteractionNodes_1.15.0.tar.gz PackageFileSize: 248.4 KiB