Package: GenomicFiles Version: 1.47.0 Command: /Library/Frameworks/R.framework/Resources/bin/R CMD INSTALL GenomicFiles StartedAt: 2025-11-13 15:30:39 -0500 (Thu, 13 Nov 2025) EndedAt: 2025-11-13 15:30:55 -0500 (Thu, 13 Nov 2025) EllapsedTime: 16.4 seconds RetCode: 0 Status: OK