Package: GenomicFiles Version: 1.47.0 Command: /Library/Frameworks/R.framework/Resources/bin/R CMD build --keep-empty-dirs --no-resave-data GenomicFiles StartedAt: 2025-11-13 16:30:04 -0500 (Thu, 13 Nov 2025) EndedAt: 2025-11-13 16:30:37 -0500 (Thu, 13 Nov 2025) EllapsedTime: 32.4 seconds RetCode: 0 Status: OK PackageFile: GenomicFiles_1.47.0.tar.gz PackageFileSize: 712.6 KiB