Package: GenomicFiles Version: 1.47.0 Command: rm -rf GenomicFiles.buildbin-libdir && mkdir GenomicFiles.buildbin-libdir && /Users/biocbuild/BBS/utils/build-universal.sh GenomicFiles_1.47.0.tar.gz /Library/Frameworks/R.framework/Resources/bin/R GenomicFiles.buildbin-libdir StartedAt: 2025-11-13 23:39:15 -0500 (Thu, 13 Nov 2025) EndedAt: 2025-11-13 23:39:35 -0500 (Thu, 13 Nov 2025) EllapsedTime: 20.4 seconds RetCode: 0 Status: OK PackageFile: GenomicFiles_1.47.0.tgz PackageFileSize: 1.003 MiB