Package: GenomicFeatures Version: 1.63.1 Command: /home/biocbuild/bbs-3.23-bioc/R/bin/R CMD INSTALL GenomicFeatures StartedAt: 2025-11-11 15:42:33 -0500 (Tue, 11 Nov 2025) EndedAt: 2025-11-11 15:43:11 -0500 (Tue, 11 Nov 2025) EllapsedTime: 37.3 seconds RetCode: 0 Status: OK