Package: GenomicFeatures Version: 1.63.1 Command: /Library/Frameworks/R.framework/Resources/bin/R CMD build --keep-empty-dirs --no-resave-data GenomicFeatures StartedAt: 2025-11-13 16:30:04 -0500 (Thu, 13 Nov 2025) EndedAt: 2025-11-13 16:30:57 -0500 (Thu, 13 Nov 2025) EllapsedTime: 52.6 seconds RetCode: 0 Status: OK PackageFile: GenomicFeatures_1.63.1.tar.gz PackageFileSize: 556.9 KiB