Package: GenomicDistributions Version: 1.19.0 Command: /home/biocbuild/bbs-3.23-bioc/R/bin/R CMD INSTALL GenomicDistributions StartedAt: 2025-11-14 15:16:22 -0500 (Fri, 14 Nov 2025) EndedAt: 2025-11-14 15:16:38 -0500 (Fri, 14 Nov 2025) EllapsedTime: 15.6 seconds RetCode: 0 Status: OK