Package: GenomicDistributions Version: 1.19.0 Command: /home/biocbuild/bbs-3.23-bioc/R/bin/R CMD check --install=check:GenomicDistributions.install-out.txt --library=/home/biocbuild/bbs-3.23-bioc/R/site-library --timings GenomicDistributions_1.19.0.tar.gz StartedAt: 2025-11-14 23:52:16 -0500 (Fri, 14 Nov 2025) EndedAt: 2025-11-14 23:55:54 -0500 (Fri, 14 Nov 2025) EllapsedTime: 218.2 seconds RetCode: 0 Status: OK CheckDir: GenomicDistributions.Rcheck Warnings: 0