Package: GenomicDistributions Version: 1.19.0 Command: /home/biocbuild/bbs-3.23-bioc/R/bin/R CMD build --keep-empty-dirs --no-resave-data GenomicDistributions StartedAt: 2025-11-14 17:45:37 -0500 (Fri, 14 Nov 2025) EndedAt: 2025-11-14 17:46:44 -0500 (Fri, 14 Nov 2025) EllapsedTime: 67.1 seconds RetCode: 0 Status: OK PackageFile: GenomicDistributions_1.19.0.tar.gz PackageFileSize: 6.237 MiB