Package: GenomicDistributions Version: 1.19.0 Command: /Library/Frameworks/R.framework/Resources/bin/R CMD check --install=check:GenomicDistributions.install-out.txt --library=/Library/Frameworks/R.framework/Resources/library --no-vignettes --timings GenomicDistributions_1.19.0.tar.gz StartedAt: 2025-11-14 20:05:09 -0500 (Fri, 14 Nov 2025) EndedAt: 2025-11-14 20:06:26 -0500 (Fri, 14 Nov 2025) EllapsedTime: 76.8 seconds RetCode: 0 Status: OK CheckDir: GenomicDistributions.Rcheck Warnings: 0