Package: GenomicDistributions Version: 1.19.0 Command: /Library/Frameworks/R.framework/Resources/bin/R CMD build --keep-empty-dirs --no-resave-data GenomicDistributions StartedAt: 2025-11-14 16:26:36 -0500 (Fri, 14 Nov 2025) EndedAt: 2025-11-14 16:27:04 -0500 (Fri, 14 Nov 2025) EllapsedTime: 27.3 seconds RetCode: 0 Status: OK PackageFile: GenomicDistributions_1.19.0.tar.gz PackageFileSize: 5.952 MiB