Package: GenomicDataCommons Version: 1.35.1 Command: /home/biocbuild/bbs-3.23-bioc/R/bin/R CMD INSTALL GenomicDataCommons StartedAt: 2025-11-13 15:16:48 -0500 (Thu, 13 Nov 2025) EndedAt: 2025-11-13 15:16:59 -0500 (Thu, 13 Nov 2025) EllapsedTime: 10.3 seconds RetCode: 0 Status: OK