Package: GenomicDataCommons Version: 1.35.1 Command: /home/biocbuild/bbs-3.23-bioc/R/bin/R CMD build --keep-empty-dirs --no-resave-data GenomicDataCommons StartedAt: 2025-11-13 17:45:09 -0500 (Thu, 13 Nov 2025) EndedAt: 2025-11-13 17:46:33 -0500 (Thu, 13 Nov 2025) EllapsedTime: 84.1 seconds RetCode: 0 Status: OK PackageFile: GenomicDataCommons_1.35.1.tar.gz PackageFileSize: 2.66 MiB