Package: GenomicDataCommons Version: 1.35.1 Command: /Library/Frameworks/R.framework/Resources/bin/R CMD INSTALL GenomicDataCommons StartedAt: 2025-11-13 15:10:55 -0500 (Thu, 13 Nov 2025) EndedAt: 2025-11-13 15:11:00 -0500 (Thu, 13 Nov 2025) EllapsedTime: 4.4 seconds RetCode: 0 Status: OK