Package: GenomicDataCommons Version: 1.35.1 Command: /Library/Frameworks/R.framework/Resources/bin/R CMD check --install=check:GenomicDataCommons.install-out.txt --library=/Library/Frameworks/R.framework/Resources/library --no-vignettes --timings GenomicDataCommons_1.35.1.tar.gz StartedAt: 2025-11-16 20:05:36 -0500 (Sun, 16 Nov 2025) EndedAt: 2025-11-16 20:06:27 -0500 (Sun, 16 Nov 2025) EllapsedTime: 51.5 seconds RetCode: 0 Status: OK CheckDir: GenomicDataCommons.Rcheck Warnings: 0