Package: GenomicDataCommons Version: 1.35.1 Command: rm -rf GenomicDataCommons.buildbin-libdir && mkdir GenomicDataCommons.buildbin-libdir && /Users/biocbuild/BBS/utils/build-universal.sh GenomicDataCommons_1.35.1.tar.gz /Library/Frameworks/R.framework/Resources/bin/R GenomicDataCommons.buildbin-libdir StartedAt: 2025-11-12 20:58:27 -0500 (Wed, 12 Nov 2025) EndedAt: 2025-11-12 20:58:34 -0500 (Wed, 12 Nov 2025) EllapsedTime: 6.1 seconds RetCode: 0 Status: OK PackageFile: GenomicDataCommons_1.35.1.tgz PackageFileSize: 2.017 MiB