Package: GenomicAlignments Version: 1.47.0 Command: /home/biocbuild/bbs-3.23-bioc/R/bin/R CMD build --keep-empty-dirs --no-resave-data GenomicAlignments StartedAt: 2025-11-13 17:44:56 -0500 (Thu, 13 Nov 2025) EndedAt: 2025-11-13 17:46:32 -0500 (Thu, 13 Nov 2025) EllapsedTime: 96.1 seconds RetCode: 0 Status: OK PackageFile: GenomicAlignments_1.47.0.tar.gz PackageFileSize: 2.153 MiB