Package: GenomicAlignments Version: 1.47.0 Command: /Library/Frameworks/R.framework/Resources/bin/R CMD INSTALL GenomicAlignments StartedAt: 2025-11-13 15:15:32 -0500 (Thu, 13 Nov 2025) EndedAt: 2025-11-13 15:15:46 -0500 (Thu, 13 Nov 2025) EllapsedTime: 13.4 seconds RetCode: 0 Status: OK