Package: GenomicAlignments Version: 1.47.0 Command: /Library/Frameworks/R.framework/Resources/bin/R CMD build --keep-empty-dirs --no-resave-data GenomicAlignments StartedAt: 2025-11-13 16:29:43 -0500 (Thu, 13 Nov 2025) EndedAt: 2025-11-13 16:30:28 -0500 (Thu, 13 Nov 2025) EllapsedTime: 44.5 seconds RetCode: 0 Status: OK PackageFile: GenomicAlignments_1.47.0.tar.gz PackageFileSize: 2.153 MiB