Package: GenomeInfoDb Version: 1.47.0 Command: /home/biocbuild/bbs-3.23-bioc/R/bin/R CMD build --keep-empty-dirs --no-resave-data GenomeInfoDb StartedAt: 2025-11-14 17:45:15 -0500 (Fri, 14 Nov 2025) EndedAt: 2025-11-14 17:45:43 -0500 (Fri, 14 Nov 2025) EllapsedTime: 28.0 seconds RetCode: 0 Status: OK PackageFile: GenomeInfoDb_1.47.0.tar.gz PackageFileSize: 3.474 MiB