Package: GenomAutomorphism Version: 1.13.0 Command: /home/biocbuild/bbs-3.23-bioc/R/bin/R CMD build --keep-empty-dirs --no-resave-data GenomAutomorphism StartedAt: 2025-11-11 17:47:29 -0500 (Tue, 11 Nov 2025) EndedAt: 2025-11-11 17:48:58 -0500 (Tue, 11 Nov 2025) EllapsedTime: 89.1 seconds RetCode: 0 Status: OK PackageFile: GenomAutomorphism_1.13.0.tar.gz PackageFileSize: 1.413 MiB