Package: GenomAutomorphism Version: 1.13.0 Command: /Library/Frameworks/R.framework/Resources/bin/R CMD INSTALL GenomAutomorphism StartedAt: 2025-11-13 15:10:33 -0500 (Thu, 13 Nov 2025) EndedAt: 2025-11-13 15:10:42 -0500 (Thu, 13 Nov 2025) EllapsedTime: 9.0 seconds RetCode: 0 Status: OK