Package: GenomAutomorphism Version: 1.13.0 Command: /Library/Frameworks/R.framework/Resources/bin/R CMD build --keep-empty-dirs --no-resave-data GenomAutomorphism StartedAt: 2025-11-13 16:29:34 -0500 (Thu, 13 Nov 2025) EndedAt: 2025-11-13 16:30:10 -0500 (Thu, 13 Nov 2025) EllapsedTime: 36.4 seconds RetCode: 0 Status: OK PackageFile: GenomAutomorphism_1.13.0.tar.gz PackageFileSize: 1.34 MiB