Package: GenomAutomorphism Version: 1.13.0 Maintainer: Robersy Sanchez MaintainerEmail: genomicmath at gmail.com git_url: https://git.bioconductor.org/packages/GenomAutomorphism git_branch: devel git_last_commit: 7283b3b git_last_commit_date: 2025-10-29 11:17:59 -0500 (Wed, 29 Oct 2025)