Package: GeneticsPed Version: 1.73.0 Command: /Library/Frameworks/R.framework/Resources/bin/R CMD build --keep-empty-dirs --no-resave-data GeneticsPed StartedAt: 2025-11-14 16:26:15 -0500 (Fri, 14 Nov 2025) EndedAt: 2025-11-14 16:26:28 -0500 (Fri, 14 Nov 2025) EllapsedTime: 13.2 seconds RetCode: 0 Status: OK PackageFile: GeneticsPed_1.73.0.tar.gz PackageFileSize: 671.7 KiB