Package: GeneticsPed Version: 1.73.0 Command: rm -rf GeneticsPed.buildbin-libdir && mkdir GeneticsPed.buildbin-libdir && /Users/biocbuild/BBS/utils/build-universal.sh GeneticsPed_1.73.0.tar.gz /Library/Frameworks/R.framework/Resources/bin/R GeneticsPed.buildbin-libdir StartedAt: 2025-11-14 23:34:11 -0500 (Fri, 14 Nov 2025) EndedAt: 2025-11-14 23:34:18 -0500 (Fri, 14 Nov 2025) EllapsedTime: 7.2 seconds RetCode: 0 Status: OK PackageFile: GeneticsPed_1.73.0.tgz PackageFileSize: 826.5 KiB