Package: GeneStructureTools Version: 1.31.0 Command: /home/biocbuild/bbs-3.23-bioc/R/bin/R CMD check --install=check:GeneStructureTools.install-out.txt --library=/home/biocbuild/bbs-3.23-bioc/R/site-library --timings GeneStructureTools_1.31.0.tar.gz StartedAt: 2025-11-14 23:50:38 -0500 (Fri, 14 Nov 2025) EndedAt: 2025-11-14 23:58:50 -0500 (Fri, 14 Nov 2025) EllapsedTime: 492.5 seconds RetCode: 0 Status: OK CheckDir: GeneStructureTools.Rcheck Warnings: 0