Package: GeneStructureTools Version: 1.31.0 Command: /Library/Frameworks/R.framework/Resources/bin/R CMD INSTALL GeneStructureTools StartedAt: 2025-11-13 15:30:14 -0500 (Thu, 13 Nov 2025) EndedAt: 2025-11-13 15:30:34 -0500 (Thu, 13 Nov 2025) EllapsedTime: 20.3 seconds RetCode: 0 Status: OK