Package: GeneStructureTools Version: 1.31.0 Command: /Library/Frameworks/R.framework/Resources/bin/R CMD check --install=check:GeneStructureTools.install-out.txt --library=/Library/Frameworks/R.framework/Resources/library --no-vignettes --timings GeneStructureTools_1.31.0.tar.gz StartedAt: 2025-11-12 18:53:49 -0500 (Wed, 12 Nov 2025) EndedAt: 2025-11-12 18:56:37 -0500 (Wed, 12 Nov 2025) EllapsedTime: 168.0 seconds RetCode: 0 Status: OK CheckDir: GeneStructureTools.Rcheck Warnings: 0