Package: GeneStructureTools Version: 1.31.0 Command: /Library/Frameworks/R.framework/Resources/bin/R CMD build --keep-empty-dirs --no-resave-data GeneStructureTools StartedAt: 2025-11-13 16:29:23 -0500 (Thu, 13 Nov 2025) EndedAt: 2025-11-13 16:30:19 -0500 (Thu, 13 Nov 2025) EllapsedTime: 55.6 seconds RetCode: 0 Status: OK PackageFile: GeneStructureTools_1.31.0.tar.gz PackageFileSize: 2.848 MiB