Package: GeneSelectMMD Version: 2.55.0 Command: /home/biocbuild/bbs-3.23-bioc/R/bin/R CMD build --keep-empty-dirs --no-resave-data GeneSelectMMD StartedAt: 2025-11-13 17:44:10 -0500 (Thu, 13 Nov 2025) EndedAt: 2025-11-13 17:44:23 -0500 (Thu, 13 Nov 2025) EllapsedTime: 13.0 seconds RetCode: 0 Status: OK PackageFile: GeneSelectMMD_2.55.0.tar.gz PackageFileSize: 455.2 KiB