Package: GeneSelectMMD Version: 2.55.0 Command: /Library/Frameworks/R.framework/Resources/bin/R CMD INSTALL GeneSelectMMD StartedAt: 2025-11-14 15:07:25 -0500 (Fri, 14 Nov 2025) EndedAt: 2025-11-14 15:07:29 -0500 (Fri, 14 Nov 2025) EllapsedTime: 3.7 seconds RetCode: 0 Status: OK