Package: GeneSelectMMD Version: 2.55.0 Command: /Library/Frameworks/R.framework/Resources/bin/R CMD build --keep-empty-dirs --no-resave-data GeneSelectMMD StartedAt: 2025-11-14 16:26:04 -0500 (Fri, 14 Nov 2025) EndedAt: 2025-11-14 16:26:13 -0500 (Fri, 14 Nov 2025) EllapsedTime: 9.1 seconds RetCode: 0 Status: OK PackageFile: GeneSelectMMD_2.55.0.tar.gz PackageFileSize: 455.2 KiB