Package: GeneSelectMMD Version: 2.55.0 Maintainer: Weiliang Qiu MaintainerEmail: weiliang.qiu at gmail.com git_url: https://git.bioconductor.org/packages/GeneSelectMMD git_branch: devel git_last_commit: 6c8a3d6 git_last_commit_date: 2025-10-29 10:02:29 -0500 (Wed, 29 Oct 2025)