Package: GeneRegionScan Version: 1.67.0 Command: /home/biocbuild/bbs-3.23-bioc/R/bin/R CMD INSTALL GeneRegionScan StartedAt: 2025-11-14 15:17:49 -0500 (Fri, 14 Nov 2025) EndedAt: 2025-11-14 15:18:02 -0500 (Fri, 14 Nov 2025) EllapsedTime: 13.5 seconds RetCode: 0 Status: OK