Package: GeneRegionScan Version: 1.67.0 Command: /Library/Frameworks/R.framework/Resources/bin/R CMD INSTALL GeneRegionScan StartedAt: 2025-11-14 15:08:56 -0500 (Fri, 14 Nov 2025) EndedAt: 2025-11-14 15:09:01 -0500 (Fri, 14 Nov 2025) EllapsedTime: 5.2 seconds RetCode: 0 Status: OK