Package: GeneRegionScan Version: 1.67.0 Command: /Library/Frameworks/R.framework/Resources/bin/R CMD build --keep-empty-dirs --no-resave-data GeneRegionScan StartedAt: 2025-11-14 16:26:02 -0500 (Fri, 14 Nov 2025) EndedAt: 2025-11-14 16:26:17 -0500 (Fri, 14 Nov 2025) EllapsedTime: 15.2 seconds RetCode: 0 Status: OK PackageFile: GeneRegionScan_1.67.0.tar.gz PackageFileSize: 7.482 MiB